BEGIN:VCALENDAR
VERSION:2.0
CALSCALE:GREGORIAN
PRODID:-//MyApp//Calendar 1.0//EN
BEGIN:VEVENT
METHOD:PUBLISH
UID:32265@regionalniportaly.cz
DTSTAMP:20260421T084830Z
DTSTART;VALUE=DATE:20230812
DTEND;VALUE=DATE:20230813
SUMMARY:Kouřimská skála 2023
DESCRIPTION:Letní rodinný festival Kouřimská skála - vzpomínka na Petra Muka. Hudební program program pro děti i dospělé\, bohatý doprovodný program\, stánkový prodej i občerstvení.Budeme se na vás těšim v krásném přírodním areálu kouřimské skály.&nbsp\;Se vstupenkou na Kouřimskou skálu budete mít vstup do Muzea lidových staveb v Kouřimi&nbsp\;a Muzea Kouřimska vstup za symbolickou 1\,-.&nbsp\;
LOCATION:Kouřim
END:VEVENT
END:VCALENDAR