BEGIN:VCALENDAR
VERSION:2.0
CALSCALE:GREGORIAN
PRODID:-//MyApp//Calendar 1.0//EN
BEGIN:VEVENT
METHOD:PUBLISH
UID:32284@regionalniportaly.cz
DTSTAMP:20260421T115420Z
DTSTART;VALUE=DATE:20231109
DTEND;VALUE=DATE:20231110
SUMMARY:Minipárty s Karlem Šípem
DESCRIPTION:Zábavná talk show baviče\, moderátora a textaře Karla Šípa na motivy televizního pořadu Všechnopárty. Pořadem provází Jiří Bláha. Prostor dostanou také dotazy diváků.Délka pořadu: 120 min. bez přestávky.Vstupné: 390 Kč.
LOCATION:Čelákovice
END:VEVENT
END:VCALENDAR