BEGIN:VCALENDAR
VERSION:2.0
CALSCALE:GREGORIAN
PRODID:-//MyApp//Calendar 1.0//EN
BEGIN:VEVENT
METHOD:PUBLISH
UID:32314@regionalniportaly.cz
DTSTAMP:20260421T125837Z
DTSTART;VALUE=DATE:20231017
DTEND;VALUE=DATE:20231018
SUMMARY:Drobečky z perníku
DESCRIPTION:Agentura HarlekýnKřehce dojemný a úsměvný příběh s nadějeplným koncem. Několik běžných životních situací\, které musí řešit alkoholička právě propuštěná z léčení\, její nedospělá dcera a stále neúspěšný herec\, čekající na příležitost\, která nepřichází.Hrají:Evy Mearová&nbsp\;Simona Stašová&nbsp\;Polly Mearová&nbsp\;Andrea Daňková&nbsp\;nebo&nbsp\;Isabella Rossini&nbsp\;Jimmy Perry&nbsp\;Čestmír Gebouský&nbsp\;Toby Landauová&nbsp\;Helena KarochováLou Tanner&nbsp\;Ernesto Čekan&nbsp\;nebo&nbsp\;Filip Cíl&nbsp\;Manuel&nbsp\;Josef FečoDrobečky z perníku je&nbsp\;hluboká a dojemná komedie a jedna z nejlepších her klasika amerických komedií Neila Simona.&nbsp\;„Smích přes slzy“ - &nbsp\;i tak by se mohla tato komedie jmenovat.&nbsp\;
LOCATION:Čelákovice
END:VEVENT
END:VCALENDAR