BEGIN:VCALENDAR
VERSION:2.0
CALSCALE:GREGORIAN
PRODID:-//MyApp//Calendar 1.0//EN
BEGIN:VEVENT
METHOD:PUBLISH
UID:32341@regionalniportaly.cz
DTSTAMP:20260421T063721Z
DTSTART;VALUE=DATE:20230421
DTEND;VALUE=DATE:20230422
SUMMARY:Rock Party
DESCRIPTION:VAŤÁK (KABÁT REVIVAL)DJ MUFFTĚHOTNEJ KUCHAŘ (čepování piva 19 - 21 hod).Vstup od 18:30 hod.Vstupné: 250 Kč v předprodeji\, 300 Kč na místě\, místa jsou na sezení bez místa určení.&nbsp\;
LOCATION:Čelákovice
END:VEVENT
END:VCALENDAR