BEGIN:VCALENDAR
VERSION:2.0
CALSCALE:GREGORIAN
PRODID:-//MyApp//Calendar 1.0//EN
BEGIN:VEVENT
METHOD:PUBLISH
UID:32367@regionalniportaly.cz
DTSTAMP:20260421T064346Z
DTSTART;VALUE=DATE:20230427
DTEND;VALUE=DATE:20230428
SUMMARY:O nebeských hodinách
DESCRIPTION:&nbsp\;"Už jste někdy slyšeli o nebeských hodinách? Řídí se jimi Paní dne a Paní noci\, Slunce\, Měsíc a nebeské ptačí bytosti. Co se ale stane\, když se nešťastnou náhodou takové hodiny rozbijí.... To uvidíte v představení "O nebeských hodinách" tanečního oboru ZUŠ Čelákovice. "Vstupné 180 Kč.
LOCATION:Čelákovice
END:VEVENT
END:VCALENDAR