BEGIN:VCALENDAR
VERSION:2.0
CALSCALE:GREGORIAN
PRODID:-//MyApp//Calendar 1.0//EN
BEGIN:VEVENT
METHOD:PUBLISH
UID:32687@regionalniportaly.cz
DTSTAMP:20260421T094347Z
DTSTART;VALUE=DATE:20231016
DTEND;VALUE=DATE:20231017
SUMMARY:Nezmaři slaví 45 let
DESCRIPTION:NEZMAŘI oslaví v&nbsp\;roce 2023 své výročí speciálním koncertem. Ohlédneme se do minulosti\, zazní osvědčené hity (Ráno bylo stejný\, Bodláky ve vlasech\, Písek\, Musíš jít dál\, Hej člověče boží)\,ale i písničky ze současného období ( Kdo si zpívá\, Růže\, Co je dobré\, Jsi všude kolem…). Součástí koncertu bude také audiovizuální projekce.&nbsp\;&nbsp\;&nbsp\;&nbsp\;Vstupné 390/180 Kč. Platí sleva ZTP a senior 70+. &nbsp\;&nbsp\;&nbsp\;&nbsp\;&nbsp\;&nbsp\;&nbsp\;&nbsp\;&nbsp\;&nbsp\;&nbsp\;&nbsp\;&nbsp\;&nbsp\;
LOCATION:Čelákovice
END:VEVENT
END:VCALENDAR