BEGIN:VCALENDAR
VERSION:2.0
CALSCALE:GREGORIAN
PRODID:-//MyApp//Calendar 1.0//EN
BEGIN:VEVENT
METHOD:PUBLISH
UID:32720@regionalniportaly.cz
DTSTAMP:20260421T090715Z
DTSTART;VALUE=DATE:20230618
DTEND;VALUE=DATE:20230619
SUMMARY:Divoký západ v Nehvizdech
DESCRIPTION:Open Air akce ZUŠ Nehvizdy.
LOCATION:Nehvizdy
END:VEVENT
END:VCALENDAR