BEGIN:VCALENDAR
VERSION:2.0
CALSCALE:GREGORIAN
PRODID:-//MyApp//Calendar 1.0//EN
BEGIN:VEVENT
METHOD:PUBLISH
UID:32979@regionalniportaly.cz
DTSTAMP:20260421T065830Z
DTSTART;VALUE=DATE:20230514
DTEND;VALUE=DATE:20230515
SUMMARY:Sněhurka a 7 hudebníků
DESCRIPTION:Sněhurka a 7 hudebníkůpředpokládaná délka 40min&nbsp\;v hlavních rolích: princeznaSněhurka – Andrea Hávová\,princ Havaja – Aleš Háva&nbsp\;A SEDUM TRPASLÍKŮ ( ŠIKOVNÝCH MALÝCH MUZIKANTŮ)vhodné pro děti do 10ti let a všechny\, kteří se chtějí pobavit.JE TO NAPŮL MUZIKÁL\, POKUD VŠE KLAPNE\, BUDE OZVUČENO.CO TO MÁME S TIM PIANEM? VEŠKERÝ VÝTĚŽEK Z AKCE VĚNUJEME&nbsp\;MALÝM HUDEBNÍKŮM Z NEHVIZD\, KTEŘÍ SI CHTĚJÍ SPLNIT SVŮJ SENV PODOBĚ PIANA pETROV. vÍCE NA WWW.PIANADOSKOL.CZhlavní vstup otevřeme v 15:30 a možnost&nbsp\;zakoupení lístků bude i na místě\, pokudse nenaplní předprodej\, ale to se ještě nestalo\,&nbsp\;ale může. Fakt... není třeba dresscode\, jako v divadle\,&nbsp\;ale tepláky a tričko se slavnostní&nbsp\; památkou&nbsp\;na nedělní oběd nechte doma. Je to novinka\,&nbsp\;jelikož rekonstrukce pokročila do bodu\,&nbsp\;kdy nepřijdete domu špinavější než&nbsp\;jste odešli.&nbsp\;&nbsp\;&nbsp\;příspěvek na piano here:https://pianadoskol.cz/?detail=58-zakladni-umelecka-skola-nehvizdy&nbsp\;
LOCATION:Velký Osek
END:VEVENT
END:VCALENDAR