BEGIN:VCALENDAR
VERSION:2.0
CALSCALE:GREGORIAN
PRODID:-//MyApp//Calendar 1.0//EN
BEGIN:VEVENT
METHOD:PUBLISH
UID:33489@regionalniportaly.cz
DTSTAMP:20260421T125644Z
DTSTART;VALUE=DATE:20230826
DTEND;VALUE=DATE:20230827
SUMMARY:7. Country Kaninafest 2023
DESCRIPTION:Country Kaninafest je každoročním setkáváním hudebních skupin prezentující českou i americkou country a bluegrass muziku.V letošním roce přivítáme špičky tohoto žánru jako je kapela COP\, HIGHWAY 40\, ANTIKVARTET DUŠANA VANČURY\, MODROTISK\, G-RUNS´ n ROSES\, HIGH GRASS\,GOODWILL a&nbsp\;DOBRÝ STRUNY.O přestávkách mohou&nbsp\;návštěvníci shlédnout vystoupení taneční skupiny Zářící Ženy\, pistolnickou&nbsp\;a lasovou&nbsp\;show\, sokolníka s dravci a&nbsp\;skotské&nbsp\;dudáky. V průběhu festivalu proběhne losování o velmi zajímavé ceny. Proběhne také dražba nože na podporu Domova seniorů ve Mšeně.Oficialní zástupce&nbsp\;automobilky&nbsp\;JEEP představí jeden ze svých modelů\, stejně tak jako MOTO Indian.&nbsp\;Festival zahájí starosta města Mělník pan Tomáš Martinec. Festivalem vás bude provázet moderátor Countryrádia\, populární Milan Schmidt.
LOCATION:Kanina
END:VEVENT
END:VCALENDAR