BEGIN:VCALENDAR
VERSION:2.0
CALSCALE:GREGORIAN
PRODID:-//MyApp//Calendar 1.0//EN
BEGIN:VEVENT
METHOD:PUBLISH
UID:33611@regionalniportaly.cz
DTSTAMP:20260421T085942Z
DTSTART;VALUE=DATE:20230623
DTEND;VALUE=DATE:20230624
SUMMARY:Bio Bezdíkov - Děti Nagana
DESCRIPTION:Sedmou sezónu letního kina zahájíme již tradičně večerem pro celou rodinu • máme pro vás nachystaný&nbsp\;film inspirovaný památným vítězstvím českých hokejistů na olympiádě v Naganu&nbsp\;• Hynek Čermák v něm vede partu kluků do důležitého hokejového zápasu s tenisákem na plácku proti rivalům z vedlejší vesnice&nbsp\;• hrát se bude o vítězství\, o respekt a taky o první pusu a o srdce nejlepší holky ze třídy.--------------Letní kino je součástí&nbsp\;Škvoreckého kulturního léta&nbsp\;• promítáme pod širým nebem i za deště • najdete nás v parku na Masarykově náměstí ve Škvorci •&nbsp\;občerstvení zajištěno již před představením&nbsp\;• na místě promítání nejsou lavičky\, a proto si kromě dobré nálady s sebou přineste&nbsp\;vlastní karimatky\, deky\, sedátka nebo lehátka&nbsp\;Vstupenky zakoupíte na místě (platba možná i bezkontaktně platební kartou) nebo online zde&nbsp\;• využijte možnosti nákupu vstupenky předem\, vyhnete se frontě před vstupem • přijďte s dostatečným předstihem--------------Jedenáctiletý Dominik je u vytržení\, když na turnaji století v Naganu naši poráží Kanadu a míří do finále. Přestože i on je trochu outsider\, rozhodne se koupit hokejku a s kamarády hrát hokej\, jak to jen jde. Hlavně s tenisákem na plácku za domem. Sestaví tým a plánují si zahrát svůj vlastní velký zápas proti klukům z vedlejší vesnice. Vedle toho chce Dominik vyhrát i srdce\, úsměv a pusu od Katky ze třídy.
LOCATION:Škvorec
END:VEVENT
END:VCALENDAR