BEGIN:VCALENDAR
VERSION:2.0
CALSCALE:GREGORIAN
PRODID:-//MyApp//Calendar 1.0//EN
BEGIN:VEVENT
METHOD:PUBLISH
UID:33614@regionalniportaly.cz
DTSTAMP:20260421T102422Z
DTSTART;VALUE=DATE:20230811
DTEND;VALUE=DATE:20230812
SUMMARY:Bio Bezdíkov - Pátý Element
DESCRIPTION:Jedinečná příležitost zhlédnout v ČR kultovní snímek Luca Bessona • tahle akční crazy jízda plná&nbsp\;nesmrtelných scén a hlášek vás bude bavit od první do poslední minuty • film promítáme jako poctu Bruce&nbsp\;Willisovi\, který bojuje se zákeřnou nevyléčitelnou nemocí a žádný další kultovní snímek už bohužel nenatočí&nbsp\;• Francie • 1997 • 126 minut • mládeži přístupný--------------Letní kino je součástí&nbsp\;Škvoreckého kulturního léta&nbsp\;• promítáme pod širým nebem i za deště • najdete nás v parku na Masarykově náměstí ve Škvorci •&nbsp\;občerstvení zajištěno již před představením&nbsp\;• na místě promítání nejsou lavičky\, a proto si kromě dobré nálady s sebou přineste&nbsp\;vlastní karimatky\, deky\, sedátka nebo lehátka&nbsp\;Vstupenky zakoupíte na místě (platba možná i bezkontaktně platební kartou) nebo online zde&nbsp\;• využijte možnosti nákupu vstupenky předem\, vyhnete se frontě před vstupem • přijďte s dostatečným předstihem--------------
LOCATION:Škvorec
END:VEVENT
END:VCALENDAR