BEGIN:VCALENDAR
VERSION:2.0
CALSCALE:GREGORIAN
PRODID:-//MyApp//Calendar 1.0//EN
BEGIN:VEVENT
METHOD:PUBLISH
UID:33617@regionalniportaly.cz
DTSTAMP:20260421T113525Z
DTSTART;VALUE=DATE:20230901
DTEND;VALUE=DATE:20230902
SUMMARY:Bio Bezdíkov - Myška Pattie : Na vlnách dobrodružství
DESCRIPTION:Rozzlobit některého z bohů ve starověkém Řecku rozhodně není dobrý nápad • zvídavou a neposednou&nbsp\;myšku Pattie a jejího neohrabaného kočičího kamaráda Sama tak čeká hodně nebezpečný úkol • veselé&nbsp\;a vynalézavé komediální dobrodružství pro celou rodinu • Francie • 2022 • 95 minut-------------Letní kino je součástí&nbsp\;Škvoreckého kulturního léta&nbsp\;• promítáme pod širým nebem i za deště • najdete nás v parku na Masarykově náměstí ve Škvorci •&nbsp\;občerstvení zajištěno již před představením&nbsp\;• na místě promítání nejsou lavičky\, a proto si kromě dobré nálady s sebou přineste&nbsp\;vlastní karimatky\, deky\, sedátka nebo lehátka&nbsp\;Vstupenky zakoupíte na místě (platba možná i bezkontaktně platební kartou) nebo online zde&nbsp\;• využijte možnosti nákupu vstupenky předem\, vyhnete se frontě před vstupem • přijďte s dostatečným předstihem--------------Rozzlobit některého z bohů ve starověkém Řecku rozhodně není dobrý nápad. A stárnoucí slavný hrdina Jason právě pořádně naštval samotného boha moří Poseidona. Zvídavou a neposednou myšku Pattie a jejího neohrabaného kočičího kamaráda Sama tak čeká hodně nebezpečný úkol. Po boku Jasona\, jehož město hrozí Poseidon zničit\, musí čelit nejnebezpečnějším tvorům mytologie. Veselé a vynalézavé komediální dobrodružství pro celou rodinu od týmu bláznivých tvůrců filmů Esa z pralesa a Princezna rebelka.
LOCATION:Škvorec
END:VEVENT
END:VCALENDAR