BEGIN:VCALENDAR
VERSION:2.0
CALSCALE:GREGORIAN
PRODID:-//MyApp//Calendar 1.0//EN
BEGIN:VEVENT
METHOD:PUBLISH
UID:33910@regionalniportaly.cz
DTSTAMP:20260421T125727Z
DTSTART;VALUE=DATE:20240214
DTEND;VALUE=DATE:20240215
SUMMARY:Kaktusový květ
DESCRIPTION:Divadelní společnost HátaPodle hry Pierra Barilleta a Jeana-Pierrea Grédy. Překlad:&nbsp\;Martin Novotný. Výprava:&nbsp\;Miroslav Král. Režie:&nbsp\;Roman Štolpa.Adaptace francouzské hry\, podle níž vzniklo i&nbsp\;úspěšné americké filmové zpracování. Zubař Julian je velkým ctitelem ženské krásy. Ženám tvrdívá\, že je ženatý a&nbsp\;má tři děti. Teď právě má poměr s&nbsp\;lehce naivní Toni Simmonsovou\, která ho velmi miluje. Chce si ho vzít\, avšak „manželství“ je překážkou. Nyní je ale všechno jinak\, Julian se chce opravdu s&nbsp\;Toni oženit. Ta však trvá na tom\, že se musí sejít s&nbsp\;jeho zatím platnou manželkou. Jenže\, kde vzít manželku\, když zubař žádnou nemá? Julian tedy přemluví svou upjatou kolegyni\, zubní asistentku Stephanii\, aby jeho manželku předstírala. Zubař má všechno pečlivě naplánované\, ale vše se zkomplikuje. Po chodbě pobíhá pohledný mladý spisovatel jenom v&nbsp\;ručníku\, někde uniká plyn\, přijíždí španělský svůdce\, zubaře nahání sexuchtivé paničky a&nbsp\;upjatá Stephanie se stane královnou diskotéky...Hrají:&nbsp\;Dr. Julian Winston zubař v nejlepším věkuLukáš&nbsp\;VaculíkStephanie Dickinsonová\, zdravotní sestra v jeho ordinaciOlga&nbsp\;"Háta"&nbsp\;Želenská&nbsp\;&nbsp\;/&nbsp\;&nbsp\;Adéla&nbsp\;GondíkováToni Simmonsová\, jeho mladá snoubenka\, prodavačka v Gramofonovém rájiBetka&nbsp\;Stanková&nbsp\;&nbsp\;/&nbsp\;&nbsp\;Kristýna&nbsp\;KociánováIgor Sullivan\, její soused\, začínají dramatikFilip&nbsp\;Tomsa&nbsp\;&nbsp\;/&nbsp\;&nbsp\;Václav&nbsp\;Jiráček&nbsp\;&nbsp\;/&nbsp\;&nbsp\;Petr&nbsp\;BuchtaPaní Dixon-Durantová\, pacientka dr.Winstona\, číšnice v nočmím klubu\, zákaznice v Gramofonovém rájiIvana&nbsp\;Andrlová&nbsp\;&nbsp\;/&nbsp\;&nbsp\;Pavla&nbsp\;VojáčkováSeňor Arturo Sanchez\, pacient dr.Winstona\, milovník hudby v Gramofonovém rájiJuraj&nbsp\;Bernáth&nbsp\;&nbsp\;/&nbsp\;&nbsp\;Jaroslav&nbsp\;SlánskýHarvey Greenfield\, kamarád dr.Winstona\, zákazník v Gramofonovém rájiPavel&nbsp\;Nečas&nbsp\;&nbsp\;/&nbsp\;&nbsp\;Roman&nbsp\;ŠtolpaBoticelliho Jaro\, Harveyho dívka lehčích mravů\, zákaznice v Gramofonovém rájiRadka&nbsp\;Pavlovčinová&nbsp\;&nbsp\;/&nbsp\;&nbsp\;Lucie&nbsp\;Svobodová&nbsp\;Vstupné 440/400&nbsp\;Kč.&nbsp\;&nbsp\;Platí sleva ZTP a senior 70+.
LOCATION:Čelákovice
END:VEVENT
END:VCALENDAR