BEGIN:VCALENDAR
VERSION:2.0
CALSCALE:GREGORIAN
PRODID:-//MyApp//Calendar 1.0//EN
BEGIN:VEVENT
METHOD:PUBLISH
UID:34362@regionalniportaly.cz
DTSTAMP:20260421T094337Z
DTSTART;VALUE=DATE:20231125
DTEND;VALUE=DATE:20231126
SUMMARY:Retro dance party
DESCRIPTION:RETRO DANCE PÁRTY je šesti hodinový disco ples těch největších hitů osmdesátých a&nbsp\;devadesátých let s přesahem na léta sedmdesátá až po současnost. Zkrátka od Abby přes Modern Talking až po Dua Lipu. Přijďte klidně v&nbsp\;džínech\, ale nejlépe retro! Nejlepší retro oblek od nás obdrží originální cenu. Těšit se můžete na skvělý zvuk\, světla\, lasery\, soutěže a mnoho dalšího. Doba je zlá\, tak tancujme\, dokud můžeme!Vstupné v předprodeji: 290 Kč - VYPRODÁNO! Vstupenky na stání za 350 Kč k dispozici na místě.Vstup od 19:30 hod.
LOCATION:Čelákovice
END:VEVENT
END:VCALENDAR