BEGIN:VCALENDAR
VERSION:2.0
CALSCALE:GREGORIAN
PRODID:-//MyApp//Calendar 1.0//EN
BEGIN:VEVENT
METHOD:PUBLISH
UID:35395@regionalniportaly.cz
DTSTAMP:20260421T125817Z
DTSTART;VALUE=DATE:20231012
DTEND;VALUE=DATE:20231013
SUMMARY:Kateřina Englichová - Rendezvous s harfou
DESCRIPTION:Nejznámější česká harfenistka Kateřina Englichová září na světových pódiích a v říjnu zavítá i do Čelákovic. Komorní koncert se uskuteční v kulisách společenského sálu Volmanovy vily.
LOCATION:Čelákovice
END:VEVENT
END:VCALENDAR