BEGIN:VCALENDAR
VERSION:2.0
CALSCALE:GREGORIAN
PRODID:-//MyApp//Calendar 1.0//EN
BEGIN:VEVENT
METHOD:PUBLISH
UID:35911@regionalniportaly.cz
DTSTAMP:20260421T143408Z
DTSTART;VALUE=DATE:20240521
DTEND;VALUE=DATE:20240522
SUMMARY:Vedlejší účinky
DESCRIPTION:Divadlo PalaceBrilantní konverzační přestřelka renomovaného komediografa Stefana Vögela o&nbsp\;partnerských vztazích - a&nbsp\;nejen o&nbsp\;nich!Režie: Petr SvojtkaKostýmy\, scéna: Miroslav KrálŘíká se - láska až za hrob - kde ale ve skutečnosti končí? Co všechno jste ochotni pro partnera riskovat a&nbsp\;obětovat?Hrají:Kathrin:&nbsp\;Klára CibulkováArnold\, architekt\, její muž:&nbsp\;Michal DlouhýDiana\, lékárnice:&nbsp\;Kateřina Březinová/Veronika SvojtkováGustav\, Dianin muž:&nbsp\;David NovotnýVstupné 460/ 420/ 400 Kč\, platí sleva ZTP a senior 70+.
LOCATION:Čelákovice
END:VEVENT
END:VCALENDAR