BEGIN:VCALENDAR
VERSION:2.0
CALSCALE:GREGORIAN
PRODID:-//MyApp//Calendar 1.0//EN
BEGIN:VEVENT
METHOD:PUBLISH
UID:36107@regionalniportaly.cz
DTSTAMP:20260421T085247Z
DTSTART;VALUE=DATE:20231105
DTEND;VALUE=DATE:20231106
SUMMARY:Sokolský Halloween
DESCRIPTION:Akce pro děti / soutěže / stanoviště / kostýmová soutěž / fotoatelierdoražte zachránit hodnou čarodejnici\, která si vzala místo lektvaru krásy\, lektar jedubábovosti. ŠílenÍ inženýři a ostatní čarodejnice se sjeli aby Vám s tÍm píchli&nbsp\;PROGRAM:15:00 slavnostně odemkneme dveře sokolovny slavnostním klíčem a děti budou moct vyrazit na cestu k záchraně tý megery16:00 Něco se bude dít na hale děti a dospělí\, co zjistí\, jestli má ta babizna zlaté srdce můžou jít zkusit štěstí a soutěžit v několika soutěžích o medaile v těchto soutěžích:17:00 Finální představení - no bude toho tam dost\, bude se skákat\, kouzelně se pobavíte\, něco shoří jako vždycky a pokud vše klapne\, tak by mělo vybouchnout to\, co má vybouchnouta Po zakončení bude slavnostní uklízení.MichaelaMichaela Kratochvílovápo záchraně čarobáby se MŮŽETE utkat v Nelítostném boji o medaIle v těchto soutěžích:1. nejlepší dětský kostým - pár pěkných cen se najde (porota je neúplatná.. asi..)2. nejlepší dospělácký kostým - poplácáme po zádech za měsíční tvrdou práci (budou tam děti\, tekoucí mozky nechejte prosím doma)3. Just dance baby star - medajle\, medajle\, medajle (na stanovištích zblajznou tolik cukru\, že budete rádi\, že se tady vytancujou)4. Just dance senior star - další medajle do šuplíku ( 18+ ve vší počestnosti\, i dospělí mají své dny)K dispozici bude fotoatelier s profesionální fotografkou\, která Vám zvěční Vaše kostými a malé příšerky\, hned po akci si budete moct fotky prohlédnout:)POZOR NOVINKA Po celou akci MŮŽETE hodovat!(za penízek\, pro sockolovnu) BUDE Kejta na grillu\, klobásy\, espresso\, Francouzké Crepes\, caputccino\, limča\,svařák\, čajík a sladká tečka - slanej popcorn.&nbsp\;SOUTĚŽE:Pokud se Vám povede zachránit čarobábu\, můžete se utkat v nelítostném boji o medajle v těchto soutěžích:1. nejlepší děstký kostým - pár pěkných cen se najde:)(porota je neúplatná.. asi..)2. nejlepší dospělácký kostým - poplácáme po zádech za měsíční tvrdou práci(budou tam děti\, tekoucí mozky nechte prosím doma)3. Just dance babystar - medajle\, medajle\, medajle!!!( na stanovištích zblajznou tolik cukru\, že budete rádi\, že se tady vytancujou)4. Just dance senior star - další medajle do šuplíku( 18+ ve vší počestnosti\, i dospělí mají své dny)&nbsp\;máte rádi výzvy? Tak to pro Vás máme dobrou zprávuv neděli 5.11. na Sokolský Halloween totiž proběhne několik soutěží\, kde můžete vyhrát\, nejlepší/nejhodnotnější ceny\, co sme kdy na akcích měli:) a teď nemluvíme jen směrem k dětem\, ale budou zde i soutěže pro dospělé a kromě medajlí si odnesete i něco dobrého\, hezkého a hravého:)doporučujeme si koupit lístky v předprodeji - docela rychle mizí\, nejspíš budou i na místě - ale to budeme vědět až v pátek dle prodaných kusůhttps://www.smsticket.cz/.../39450-sokolsky-halloween...o co v soutěžích půjde?1. Kostýmová soutěž - dětská / dospělá - pravidla sou jasná\, vítězí originalita\, krásnost\, ojedinělost a zajímavost.účastník se zastaví ve fotokoutku\, kde se nechá zvěčnit\, čímž se automaticky zapíše do soutěže. ( zápis se uzavírá v 16:15 )Pozor\, nechutné\, morbigní a celkově nepřístojné masky dětem budou ohodnoceny hned u vchodu velkým kopancem\, pápá a šáteček. Uvědomte si\, že tam sou malá prťata a nechcete jim přivodit celoživotní traumata:)Zkuste jednoduchou poučku - Zbožňujete zombie\, ok pohoda\, Verze : trochu potrhanej minihulk nikoho neurazí.Verze : urvaná ruka\, táhnete za sebou střeva a celkově vypadáte\, jako ta zombie co papali ty malý zombie v soumrak mrtvejch - Zkuste jinou akci.vyhlášení bude po fireshow v 17:00\, pokud daj inženýři dokupy goldbota\, tak to předává výherní evropskej cosplay od\, ale docela o našich promovaných pochybuju:D2. Tancuj tancuj\, vykrůcaj - zajímavá hra\, kdy se vlníte dle předlohy na promítaném plátně\, senzor snímá Vaše pohyby a boduje\, jak moc Přesní tanečníci jste. Nejvyší score vyhrává!Zde bude kategorií habakuk - najdete s největší pravděpodobností ve starém kině.Aby sme motivovali děti i dospělé k veselému křepčení\, přichází spoustu kategorií - bude jich cca 10 + 2\, kde v každé kategorii vítěz obdrží medajli + žravé/zdravé maliny v čokoládě.Po vyhlášení nejkostýmu necháme ještě hodinku\, do 18:00 kdy zakončíme soutěž\, vyhlásíme vítěze a ultimátnáho vítěze - první tři místa ultimátní soutěže\, opět dětské i dospělé:)no máte se na co těšit\, ve hře toho je spoustuDěkujeme všem sponzorům a dobrovolníkům\, díky kterým tato akce vzniklaT.J. Sokol Velký Osek - a horda dobrovolníků a brigádníků\, kteří akci věnují a letos i halda skvělých duší\, které se za cesťák a trochu Mňamek nechali ukecat a na helloweenu budou vystupovat\, popřípadě dělat to co umějí nejlíp\, díky!Finančně akci podpořili: každý částkou 5000kč.KOPOS KOLÍN a.s.AIS Automotive Interieor Systeme s.r.oMateriálně akci podpořili:OC Futurum Kolín - skvělé dárky a poukazy do soutěžíJakub Sádlo Seidl - vrchní palič sokola\, který daroval medaile do soutěžíwww.vestiscz.cz - měkoučké župany\, v kterejch Vás výhra o to víc zahřejehttps://www.chococo.cz/horka-malina-bez-cukru/ Sklenice do snad každé kategorie soutěží. Když Vás bude honit mlsná\, tak si tuhle zdravou dobrotu můžete dát bez výčitek:)hodný přítel z dětství - krásné nové deskovkyValeo CZ/SK - společenské hryT.E.T.R.I.S. - spoustu zářivé zábavyAmáres coffee &amp\; First crack coffee - spíš asi dary pro dospělé\, ale uvidíme\, třeba dají i něco\, co když děti snědí\, tak nebudou do tří dorána lítat po lustru a hrát si na letadlowww.hasic-servis.eu - který nám natěžil vzácné heliumDíky Díky Díky. Teď už jen nezbývá\, než držet palce ať vše i s počasím klapne&nbsp\;&nbsp\;
LOCATION:Velký Osek
END:VEVENT
END:VCALENDAR