BEGIN:VCALENDAR
VERSION:2.0
CALSCALE:GREGORIAN
PRODID:-//MyApp//Calendar 1.0//EN
BEGIN:VEVENT
METHOD:PUBLISH
UID:36447@regionalniportaly.cz
DTSTAMP:20260421T085323Z
DTSTART;VALUE=DATE:20231104
DTEND;VALUE=DATE:20231105
SUMMARY:Coolysa divadelní festival - Neposlušná kůzlátka - Jiří Poleňha
DESCRIPTION:Pohádka o tom\, jak se z neposlušných kůzlátek stala poslušná kůzlátka. Pochopitelně v pohádce vystupuje i zlý\, ale naštěstí dost hloupý\, vlk. Hraje Jiří Polehňa v marionetovém divadýlku s jednoduchými řezbovanými loutkami. Datum lokální premiéry: 4. listopad 2023
LOCATION:Lysá nad Labem
END:VEVENT
END:VCALENDAR