BEGIN:VCALENDAR
VERSION:2.0
CALSCALE:GREGORIAN
PRODID:-//MyApp//Calendar 1.0//EN
BEGIN:VEVENT
METHOD:PUBLISH
UID:36449@regionalniportaly.cz
DTSTAMP:20260423T083236Z
DTSTART;VALUE=DATE:20231111
DTEND;VALUE=DATE:20231112
SUMMARY:Coolysa divadelní festival - Pipi dlouhá punčocha - Vendula Burger
DESCRIPTION:Pipi Dlouhá punčocha utekla z knížky a toulá se po okolních vesnicích. Variace na legendární příběhy švédské spisovatelky Astrid Lindgrenové. Interaktivní představení hraje Vendula Burger Budilová\, choreografka a divadelnice vycházející z divadelní metody Jacques Lecoq využívající pohyb\, pantomimu a fyzické divadlo.
LOCATION:Lysá nad Labem
END:VEVENT
END:VCALENDAR