BEGIN:VCALENDAR
VERSION:2.0
CALSCALE:GREGORIAN
PRODID:-//MyApp//Calendar 1.0//EN
BEGIN:VEVENT
METHOD:PUBLISH
UID:36450@regionalniportaly.cz
DTSTAMP:20260421T085341Z
DTSTART;VALUE=DATE:20231111
DTEND;VALUE=DATE:20231112
SUMMARY:Coolysa divadelní festival - Až uslyšíš moře - Divadlo ve věži
DESCRIPTION:Hraje Divadlo ve věži. V hlavní roli Kateřina Hrušková. Hořká komedie inspirována skutečným životním příběhem geniální violoncellistky Jacqueline du Pré na pozadí bizarního manželského čtyrúhelníku. Jedná se o tradiční spojení divadelního představení s živou vážnou hudbou. Autor: Václav Procházka. Divadelní úprava a režie: Libor Hruška. Violoncellistka Jacqueline du Pré (26. 01. 1945 -18. 10. 1987) Pravděpodobně nejslavnější violoncellistka všech dob – a také jedna z nejvýznamnějších a nejtalentovanějších. Dosáhla velkých úspěchů a slávy během krátké doby. Kariéru musela ukončit v pouhých 28 letech\, když onemocněla roztroušenou sklerózou.
LOCATION:Lysá nad Labem
END:VEVENT
END:VCALENDAR