BEGIN:VCALENDAR
VERSION:2.0
CALSCALE:GREGORIAN
PRODID:-//MyApp//Calendar 1.0//EN
BEGIN:VEVENT
METHOD:PUBLISH
UID:36451@regionalniportaly.cz
DTSTAMP:20260421T162143Z
DTSTART;VALUE=DATE:20231118
DTEND;VALUE=DATE:20231119
SUMMARY:Coolysa divadelní festival - Pinocchio - Tomáš Běhal
DESCRIPTION:Příběh Pinocchiových dobrodružství hraje Tomáš Běhal\, Divadlo TOY MACHINE. Někdy se může splnit i nejnesplnitelnější sen\, který můžete mít. Ale cesta k němu bývá dlouhá snad jako Pinocchiův nos. To Vám byl největší uličník a poleno borové\, jakého si jenom dokážete představit! Lhal\, neposlouchal a dokonce utekl Gepetovi… Snad se znovu setkají\, protože každý jednou vyroste ze své klackovistosti\, ale potřebuje k tomu čas!
LOCATION:Lysá nad Labem
END:VEVENT
END:VCALENDAR