BEGIN:VCALENDAR
VERSION:2.0
CALSCALE:GREGORIAN
PRODID:-//MyApp//Calendar 1.0//EN
BEGIN:VEVENT
METHOD:PUBLISH
UID:36452@regionalniportaly.cz
DTSTAMP:20260421T115548Z
DTSTART;VALUE=DATE:20231118
DTEND;VALUE=DATE:20231119
SUMMARY:Coolysa divadelní festival - Mrzák inishmaanský - DS Náplavka
DESCRIPTION:Hraje Divadelní spolek Náplavka. Autor Martin McDonagh. Hra současného světového dramatika v doprovodu živě hrající kapely. Diváci plují ve vratké loďce na Aranské ostrovy v Irsku\, které v roce 1934 proslavil dokumentární film Člověk z Aranů. Právě do této doby autor zasadil děj své černé komedie\, ve které se venkovský kluk Billy vydá za svým snem. Billy celý svůj život čelí posměchu\, ale nevzdává se naděje\, že se může stát známým hercem v Americe. Hrají: Zuzana Burdová\, Daniela Smutná\, Hugo Charvát\, Jan Rieger\, Jan Burda\, Anežka Burdová\, Jan Carva\, Petra Tesařová a Zuzana Faldusová. Režie: Jan Burda.
LOCATION:Lysá nad Labem
END:VEVENT
END:VCALENDAR