BEGIN:VCALENDAR
VERSION:2.0
CALSCALE:GREGORIAN
PRODID:-//MyApp//Calendar 1.0//EN
BEGIN:VEVENT
METHOD:PUBLISH
UID:36453@regionalniportaly.cz
DTSTAMP:20260421T115604Z
DTSTART;VALUE=DATE:20231125
DTEND;VALUE=DATE:20231126
SUMMARY:Coolysa divadelní festival - O Sněhurce - Divadlo pruhované panenky
DESCRIPTION:Jemně strašidelná klasická pohádka vsazená do poezie starých časů. Staré kufry\, stojany na noty\, trpaslíci z dřevěných špalíků\, loutka Sněhurky v životní velikosti. Představení má dvě verze v obou případech hrajeme na různé obvyklé i neobvyklé nástroje - tibetské mísy\, dešťová hůl\, kytara\, flétna\, buben\, zvonky a chřestidla. Druhá verze je obohacena další muzikantkou\, která nás doprovází na akordeon.
LOCATION:Lysá nad Labem
END:VEVENT
END:VCALENDAR