BEGIN:VCALENDAR
VERSION:2.0
CALSCALE:GREGORIAN
PRODID:-//MyApp//Calendar 1.0//EN
BEGIN:VEVENT
METHOD:PUBLISH
UID:36454@regionalniportaly.cz
DTSTAMP:20260421T115620Z
DTSTART;VALUE=DATE:20231125
DTEND;VALUE=DATE:20231126
SUMMARY:Coolysa divadelní festival - Stalo se v Chamonix aneb Past na osamělého muže - Divadlo bez Hranic
DESCRIPTION:Hraje Divadlo bez hranic. Autor Robert Thomas\, režie František Kreuzmann. Úspěšná detektivní hra. Horská chata poblíž Chamonix\, ve které zdrcený manžel\, oplakává zmizení své ženy. Případu se ujímá místní komisař. Ve chvíli\, kdy se ve dveřích chaty objeví mladý abbé se zmizelou manželkou začíná hra\, ve které není do poslední chvíle jasné\, kdo je kdo a o co komu jde... Hrají: Rostislav Trtík\, Barbora Fišerová\, Július Kubaščík\, Jan Bartoška\, Marcela Nohýnková\, Ivan Remta
LOCATION:Lysá nad Labem
END:VEVENT
END:VCALENDAR