BEGIN:VCALENDAR
VERSION:2.0
CALSCALE:GREGORIAN
PRODID:-//MyApp//Calendar 1.0//EN
BEGIN:VEVENT
METHOD:PUBLISH
UID:36455@regionalniportaly.cz
DTSTAMP:20260421T094331Z
DTSTART;VALUE=DATE:20231207
DTEND;VALUE=DATE:20231208
SUMMARY:Laco Deczi & Celula New York
DESCRIPTION:Trumpetista\, skladatel\, kapelník a amatérský malíř Laco Deczi se narodil v roce 1938 ve vesnici Bernolákovo na Slovensku. V roce 1962 odešel z Bratislavy do Prahy kde působil až do své emigrace v roce 1985. Po několika měsících strávených v Západním Německu nakonec definitivně zakotvil ve Spojených státech kde žije do teď.
LOCATION:Lysá nad Labem
END:VEVENT
END:VCALENDAR