BEGIN:VCALENDAR
VERSION:2.0
CALSCALE:GREGORIAN
PRODID:-//MyApp//Calendar 1.0//EN
BEGIN:VEVENT
METHOD:PUBLISH
UID:36456@regionalniportaly.cz
DTSTAMP:20260421T125849Z
DTSTART;VALUE=DATE:20231201
DTEND;VALUE=DATE:20231202
SUMMARY:Arnošt Frauenberg - UTRŽENEJ ZE ŘETĚZU
DESCRIPTION:Arnošt „Arny“ Frauenberg\, stand-up komik\, herec a moderátor kterého znáte z pořadů: Na Stojáka\, Comedy Club\, nebo Brzda Evropy 2\, vyráží na Tour se svým novým speciálem: Utrženej ze řetězu. Originální obsah\, který nemůžete vidět jinde\, než v této show. Arny vypráví jeden osobní příběh\, protkaný glosami\, úvahami a postřehy ze života nás všech. Dotýká se ale nejen osobních témat\, ale i témat společenských\, jako například: čemu věříme\, jak žijeme po boku Velkého bratra\, jak jsme tolerantní ke svému okolí a podobně. Žádné téma není tabu. A jako již tradičně: Děti a předsudky nechte doma!
LOCATION:Lysá nad Labem
END:VEVENT
END:VCALENDAR