BEGIN:VCALENDAR
VERSION:2.0
CALSCALE:GREGORIAN
PRODID:-//MyApp//Calendar 1.0//EN
BEGIN:VEVENT
METHOD:PUBLISH
UID:36457@regionalniportaly.cz
DTSTAMP:20260421T090011Z
DTSTART;VALUE=DATE:20231108
DTEND;VALUE=DATE:20231109
SUMMARY:TOMÁŠ VEJMOLA – cestavotelská STAND-UP
DESCRIPTION:TOMÁŠ VEJMOLA alias TOMÍK NA CESTÁCH Tomáš Vejmola alias Tomík na cestách se vydal na další neskutečnou cestu. Tentokrát s tuktukem z Bangkoku domů. Tuktuk je thajská tříkolka\, kterou si Tomík pořídil v Thajsku a bez jakýchkoli zkušenosti a sám se vydal s tímto 35 let starým vozem přes půl světa. Projel tak Thajsko\, Myanmar\, Indii\, Nepál\, Írán\, Turecko\, Bulharsko… až jej přesně do roka a do dne dotlačil do České republiky. O tom\, že to jde\, když se chce\, jak vypadá rok na takové dobrodružné cestě a mnoho barvitých historek plných neskutečných situacích\, nabídek k sňatku\, útěků před slonem\, příšerných indů ale i nádherného Íránu vám Tomík s humorem a jistou nadsázkou mile rád poví za doprovodu fotografií a videí promítaných na plátně.
LOCATION:Lysá nad Labem
END:VEVENT
END:VCALENDAR