BEGIN:VCALENDAR
VERSION:2.0
CALSCALE:GREGORIAN
PRODID:-//MyApp//Calendar 1.0//EN
BEGIN:VEVENT
METHOD:PUBLISH
UID:37640@regionalniportaly.cz
DTSTAMP:20260421T115229Z
DTSTART;VALUE=DATE:20240516
DTEND;VALUE=DATE:20240517
SUMMARY:Halina Pawlowská – Manuál zralé ženy
DESCRIPTION:Chcete být obletovaná\, krásná\, věčně mladá? Poslechněte si milostnépříběhy\, které vás inspirují. Zasmějte se erotickým zkušenostem ostatních\, samy se zeptejte na všechno\, co vás zajímá a nechte si poradit!&nbsp\;A hlavně se přijďte zasmát!Manuál zralé ženy je určen ženám od dvanácti do sta let\, je ale i promuže\, protože právě díky manuálu budou lépe rozumět svým partnerkám a možná i sami sobě.&nbsp\;Vstupné 450 Kč.
LOCATION:Čelákovice
END:VEVENT
END:VCALENDAR