BEGIN:VCALENDAR
VERSION:2.0
CALSCALE:GREGORIAN
PRODID:-//MyApp//Calendar 1.0//EN
BEGIN:VEVENT
METHOD:PUBLISH
UID:37833@regionalniportaly.cz
DTSTAMP:20260421T100208Z
DTSTART;VALUE=DATE:20240302
DTEND;VALUE=DATE:20240303
SUMMARY:Horkýže Slíže
DESCRIPTION:Horkýže Slíže\, slovenská rocková kapela z Nitry\, která vznikla 4. listopadu 1992. Dvakrát získala platinovou desku. Jejich hudba je označována jako punková\, punk rocková\, nebo jednoduše rocková.Předkapela Byt číslo 4 v březnu 2022\, která zaujala veřejnost svým prvním singlem Nechápu\, postoupila do trojčlenného finále soutěže o Objev roku rádia Haná 2022 a stala se tipem týdne na hudební platformě Bandzone.cz. Ve svých skladbách kombinuje živelný punk rock s upřímnými texty.Start: 20:00 hodin
LOCATION:Čelákovice
END:VEVENT
END:VCALENDAR