BEGIN:VCALENDAR
VERSION:2.0
CALSCALE:GREGORIAN
PRODID:-//MyApp//Calendar 1.0//EN
BEGIN:VEVENT
METHOD:PUBLISH
UID:38520@regionalniportaly.cz
DTSTAMP:20260421T113421Z
DTSTART;VALUE=DATE:20240314
DTEND;VALUE=DATE:20240315
SUMMARY:David Uličník - KRYL *80+30 VÝROČÍ
DESCRIPTION:David Uličník&nbsp\;uvede v jarních měsících roku 2024 koncertní program&nbsp\;KRYL - 80 - 30 - VÝROČÍ.Mimořádné jarní turné spojené s tímto programem bude věnováno 80.&nbsp\;výročí narození a 30. výročí předčasného úmrtí Karla Kryla\, jedinečného básníka a hlasu národa.&nbsp\;Koncertní pásmo obsahuje nejen známé ale i pozapomenuté písně Karla Kryla\, významným prvkem celého pásma je však průvodní slovo\, pomyslný hudební a literární dialog…
LOCATION:Čelákovice
END:VEVENT
END:VCALENDAR