BEGIN:VCALENDAR
VERSION:2.0
CALSCALE:GREGORIAN
PRODID:-//MyApp//Calendar 1.0//EN
BEGIN:VEVENT
METHOD:PUBLISH
UID:38762@regionalniportaly.cz
DTSTAMP:20260421T101547Z
DTSTART;VALUE=DATE:20240324
DTEND;VALUE=DATE:20240325
SUMMARY:Bylo nás pět (tenkrát)
DESCRIPTION:BYLO NÁS PĚT (tenkrát) - Karel Poláček\, Petr Vacek MÁME VŠECH PĚT POHROMADĚ Humoristický román Karla Poláčka BYLO NÁS PĚT upravil režisér Petr Vacek pro Divadlo Na Jezerce do podoby divadelní hry. Vackovu verzi Poláčkova příběhu pěti kamarádů na život a na smrt uvedlo Divadlo Na Jezerce ve světové premiéře 15. listopadu 2023.Čeněk Jirsák: „Pánové\, mám prima hřích! Musím hned ke svatý zpovědi.” Přijďte se do Kouřimi&nbsp\;podívat\, o jaký hřích se jedná.
LOCATION:Kouřim
END:VEVENT
END:VCALENDAR