BEGIN:VCALENDAR
VERSION:2.0
CALSCALE:GREGORIAN
PRODID:-//MyApp//Calendar 1.0//EN
BEGIN:VEVENT
METHOD:PUBLISH
UID:38815@regionalniportaly.cz
DTSTAMP:20260421T151038Z
DTSTART;VALUE=DATE:20240707
DTEND;VALUE=DATE:20240708
SUMMARY:Helena Vondráčková - Dlouhá noc
DESCRIPTION:KONCERT HELENY VONDRÁČKOVÉ SE&nbsp\;VZHLEDEM K NEPŘÍZNIVÉ PŘEDPOVĚDI POČASÍ RUŠÍ.&nbsp\;Omlouváme se všem.&nbsp\;VSTUPNÉ&nbsp\;VÁM BUDE VRÁCENO. Děkujeme za pochopení.&nbsp\;
LOCATION:Kunice
END:VEVENT
END:VCALENDAR