BEGIN:VCALENDAR
VERSION:2.0
CALSCALE:GREGORIAN
PRODID:-//MyApp//Calendar 1.0//EN
BEGIN:VEVENT
METHOD:PUBLISH
UID:38816@regionalniportaly.cz
DTSTAMP:20260421T132204Z
DTSTART;VALUE=DATE:20240706
DTEND;VALUE=DATE:20240707
SUMMARY:Štefan Margita lidové TOUR REŽ\, REŽ\, REŽ
DESCRIPTION:LETNÍ OPEN AIR KONCERTTOUR 2024 Štefan Margita &amp\; lidovky OD KLASIKY K FOLKLORUSvětoznámý tenorista Štefan Margita opět překvapuje nejen své fanoušky a přichází s novým koncertním programem\, který navazuje na úspěšné CD Rež\, rež\, rež vydané u společnosti Supraphon (2023).V programu se můžete těšit nejen na známé a populární lidové písně jako je Ach\, synku\, synku\, Takú sem já frajárečku dostal&nbsp\;\, To ta helpa nebo na velice žádanou a diváky oblíbenou píseň Išel Macek do Malacek\, ale také na další atraktivní melodie jako je Jaká to nádhera\, Když mne stará matka (A.Dvořák) nebo&nbsp\;Sporting Life G. Gerschwina.Doprovází:Iris Moris violoncelloDalibor Štrunc cimbálKarel Vrtiška klavírKateřina Štruncová housleVSTUP DO AREÁLU ZÁMKU OD 18:00. Koncert se koná za každého počasí.
LOCATION:Kunice
END:VEVENT
END:VCALENDAR