BEGIN:VCALENDAR
VERSION:2.0
CALSCALE:GREGORIAN
PRODID:-//MyApp//Calendar 1.0//EN
BEGIN:VEVENT
METHOD:PUBLISH
UID:38817@regionalniportaly.cz
DTSTAMP:20260421T132145Z
DTSTART;VALUE=DATE:20240705
DTEND;VALUE=DATE:20240706
SUMMARY:NOC FILMOVÝCH A MUZIKÁLOVÝCH MELODIÍ s hvězdnými hosty
DESCRIPTION:NOC FILMOVÝCH A MUZIKÁLOVÝCH MELODIÍ s hvězdnými hostyPotěšte sebe i&nbsp\;své blízké nádhernými filmovými a muzikálovými melodiemi v doprovodu orchestru.Přijďte si užít nádhernou filmovou hudbu v&nbsp\;podání vynikajícího orchestru Felixe Slováčka jr. v&nbsp\;krásném prostředí zámeckého parku zámku Berchtold. Účinkuje:Orchestr Felixe Slováčka jr.\, dirigent Felix Slováček jr.hosté: Tereza Mátlová\, Michaela Nosková\, Lenka Graf\, Lydie JurkováPROGRAM:INDIANA JONESPIRÁTI Z KARIBIKUFANTOM OPERYSEDM STATEČNÝCHJAMES BONDTITANICFANTOM OPERYZDIVOČELÁ ZEMĚTŘI OŘÍŠKY PRO POPELKU a další...&nbsp\;VSTUP DO AREÁLU ZÁMKU OD 18:00. Koncert se koná za každého počasí.
LOCATION:Kunice
END:VEVENT
END:VCALENDAR