BEGIN:VCALENDAR
VERSION:2.0
CALSCALE:GREGORIAN
PRODID:-//MyApp//Calendar 1.0//EN
BEGIN:VEVENT
METHOD:PUBLISH
UID:40071@regionalniportaly.cz
DTSTAMP:20260421T113441Z
DTSTART;VALUE=DATE:20240519
DTEND;VALUE=DATE:20240520
SUMMARY:TRANSFORMERS SHOW!
DESCRIPTION:Čelákovice a okolí\, tuhle neděli&nbsp\;děti rozhodně nebudou chtít strávit u televize.Horká novinka&nbsp\;- SHOW GIGANTICKÝCH ROBOTŮ&nbsp\;ve Vašem městě!&nbsp\;Jediné turné v&nbsp\;ČR\, které když propásnete\, bude nenávratně pryč.pozn.:&nbsp\;Kamarádka vás zabije\, pokud ji nedáte vědět taky :)
LOCATION:Čelákovice
END:VEVENT
END:VCALENDAR