BEGIN:VCALENDAR
VERSION:2.0
CALSCALE:GREGORIAN
PRODID:-//MyApp//Calendar 1.0//EN
BEGIN:VEVENT
METHOD:PUBLISH
UID:40291@regionalniportaly.cz
DTSTAMP:20260421T115357Z
DTSTART;VALUE=DATE:20240601
DTEND;VALUE=DATE:20240602
SUMMARY:Galavečer amatérského boxu a K1
DESCRIPTION:Galavečer amatérského boxu a K1 - Zápasy - Tombola - DJ - Afterparty&nbsp\;
LOCATION:Doubek
END:VEVENT
END:VCALENDAR