BEGIN:VCALENDAR
VERSION:2.0
CALSCALE:GREGORIAN
PRODID:-//MyApp//Calendar 1.0//EN
BEGIN:VEVENT
METHOD:PUBLISH
UID:40578@regionalniportaly.cz
DTSTAMP:20260421T100250Z
DTSTART;VALUE=DATE:20240403
DTEND;VALUE=DATE:20240404
SUMMARY:Jarní galakoncert Musica dolce vita
DESCRIPTION:Přivítejte s námi jaro těmi nejkrásnějšími operními a operetními melodiemi v podání souboru Musica dolce vita.Účinkují:&nbsp\;Daniela Demuthová – mezzosoprán\,&nbsp\;Žofie Vokálková – flétna\,&nbsp\;Zbyňka Šolcová – harfa
LOCATION:Dobrovice
END:VEVENT
END:VCALENDAR