BEGIN:VCALENDAR
VERSION:2.0
CALSCALE:GREGORIAN
PRODID:-//MyApp//Calendar 1.0//EN
BEGIN:VEVENT
METHOD:PUBLISH
UID:40681@regionalniportaly.cz
DTSTAMP:20260422T055538Z
DTSTART;VALUE=DATE:20241105
DTEND;VALUE=DATE:20241106
SUMMARY:Sirény na cestách
DESCRIPTION:Zcela nová zábavná talk show&nbsp\;ženské trojice hereček a&nbsp\;zpěvaček Sandry POGODOVÉ\, Jitky ASTEROVÉ a Lindy FINKOVÉ - "SIRÉNY NA CESTÁCH".Jejich neotřelý&nbsp\;smysl pro humor a vzájemná chuť si ze sebe utahovat vás rozhodně pobaví.Pořad je plný šťavnatých vyprávění a historek ze zákulisí natáčení a&nbsp\;divadelního světa. To vše prošpikováno šansony a písněmi z muzikálů tvoří dokonalý program\, na který budete dlouho vzpomínat s úsměvem na tváři.Představení je bez přestávky.Po&nbsp\;skončení pořadu je ještě jako bonus autogramiáda.Vstupné: 450 Kč.Pořadatel: TMG art production s.r.o.
LOCATION:Čelákovice
END:VEVENT
END:VCALENDAR