BEGIN:VCALENDAR
VERSION:2.0
CALSCALE:GREGORIAN
PRODID:-//MyApp//Calendar 1.0//EN
BEGIN:VEVENT
METHOD:PUBLISH
UID:40734@regionalniportaly.cz
DTSTAMP:20260421T114456Z
DTSTART;VALUE=DATE:20240426
DTEND;VALUE=DATE:20240427
SUMMARY:Stand-up comedy Show v Restauraci Na Statku
DESCRIPTION:Nejste citlivky a chcete se pořádně zasmát?Baví vás humor drsný jako Chuck Norris v nejlepších letech?Pak jste tady správně!Zveme vás na pořádnou stand-up comedy show v&nbsp\;JEVANECH!Vystoupí pro vás hned čtveřice komiků:Jiří Jakima&nbsp\;- Zkušený komik\, který vystupuje přes 10 let. Můžete ho znát z Na stojáka nebo Comedy clubu. Nyní objíždí Česko a Slovensko se živou stand-up comedy show spojenou s filmem Smrt je velká životní změna. A na bench zvedne celou tvojí mámu.David Klouda&nbsp\;- Bývalý 160kilový cvalík\, který bůhvíproč nikdy nedělal sumo. I když hodně zhubnul\, stále je hrdým tlouštíkem a také o váze bude jeho stand-up.Anna Bednářová&nbsp\;-&nbsp\;Anička sice peče úžasný dezerty\, ale její humor rozhodně není tak sladký. Naservíruje vám pořádnou nálož srandy!Karel Petrdlík&nbsp\;- Neřízená střela\, která nemluví jen ve chvíli\, kdy se nadechuje k dalšímu mluvení.POČET LÍSTKŮ JE OMEZEN\, JE MOŽNÉ\, ŽE NA MÍSTĚ UŽ NEBUDOU K DOSTÁNÍ. Doporučujeme tedy koupit lístky v předprodeji.Těšíme se na vás a humoru zdar!!!
LOCATION:Jevany
END:VEVENT
END:VCALENDAR