BEGIN:VCALENDAR
VERSION:2.0
CALSCALE:GREGORIAN
PRODID:-//MyApp//Calendar 1.0//EN
BEGIN:VEVENT
METHOD:PUBLISH
UID:40744@regionalniportaly.cz
DTSTAMP:20260421T113434Z
DTSTART;VALUE=DATE:20240509
DTEND;VALUE=DATE:20240510
SUMMARY:Marie Rottrová - Galakoncert
DESCRIPTION:První dáma&nbsp\;českého soulu\, ostravská rodačka\, skvělá zpěvačka\, pianistka\, skladatelka vystoupí 9.5.2024 od 19:00 v Čelákovicích. Můžete se těšit na takové hudební klenoty z jejího repertoáru jako jsou například Lásko voníš deštěm\, Ten vůz už jel\, Skořápky ořechů\, Markétka\, Zřejmě letos nikde nejsou kytky\, S tím bláznem si nic nezačínej...Pořádá: Tuning - Sport Promotion.
LOCATION:Čelákovice
END:VEVENT
END:VCALENDAR