BEGIN:VCALENDAR
VERSION:2.0
CALSCALE:GREGORIAN
PRODID:-//MyApp//Calendar 1.0//EN
BEGIN:VEVENT
METHOD:PUBLISH
UID:41212@regionalniportaly.cz
DTSTAMP:20260423T112856Z
DTSTART;VALUE=DATE:20241030
DTEND;VALUE=DATE:20241031
SUMMARY:V závěji
DESCRIPTION:Komorní divadlo Kalich uvádí JIŘÍHO LANGMAJERA a PETRU HŘEBÍČKOVOU&nbsp\;v komedii&nbsp\; V ZÁVĚJI.Autor Peter Quilter\, režie Jakub Nvota.Venku je vánice a skutečná sněhová kalamita\, která působí jako konec světa. Vycházet z domu se nejenom nedoporučuje\, ale dokonce je to i zakázané. A přesto někdo buší na Patrickovy dveře. Sousedka Judith si totiž nutně potřebuje vypůjčit pár vajec. Značně excentrická žena se v Patrikově domě chová jako doma\, neváhá kritizovat jeho návyky i životní postoje\, bezprostředně komentovat sochu zdobící obývací pokoj a už vůbec se nebojí narušit jeho poklidný večer. Zoufalý Patrick se pokusí dostat Judith z domu za pomoci policie\, ta ho ale upozorní\, že je jeho povinností nechat ženu u sebe a nevystavovat ji nebezpečí\, které by jí hrozilo kdyby dům opustila. A tak musí tito dva naprosto odlišní lidé\, kteří by se za normálních okolností jen těžko sblížili\, společně strávit den a noc – dlouhými rozhovory\, pitím i tancem.Autor rozehrává vtipnou smršť dialogů a situací\, kde nelze jen tak předvídat\, co všechno se ještě může stát.Česká premiéra 18.10.2024.Vstupné 480/ 440/ 400 Kč\, platí sleva ZTP a senior 70+.
LOCATION:Čelákovice
END:VEVENT
END:VCALENDAR