BEGIN:VCALENDAR
VERSION:2.0
CALSCALE:GREGORIAN
PRODID:-//MyApp//Calendar 1.0//EN
BEGIN:VEVENT
METHOD:PUBLISH
UID:41262@regionalniportaly.cz
DTSTAMP:20260421T132007Z
DTSTART;VALUE=DATE:20240628
DTEND;VALUE=DATE:20240629
SUMMARY:Domácí@štěstí.hned
DESCRIPTION:V&nbsp\;čistém obydlí radost se usídlí!Dá-li Pánbůh zdraví – i hříchy budou.Milovat a milován býti - jest největším štěstím v&nbsp\;bytí.Tak takových rčení a rad má paní Vilemína&nbsp\;Gruntorádová&nbsp\;v&nbsp\;zásobě mnoho. Vtrhne do současné domácnosti moderního páru\,&nbsp\;coby hospodyně z&nbsp\;agentury Domácí štěstí\,&nbsp\;aby jim udělala vítr v&nbsp\;kuchyni i ve vztahu.Záměrně se vrací do&nbsp\;dob 1.republiky\, kdy se rodině a vztahům připisovala důležitost mnohem větší.&nbsp\;Kdy slovo „out“ ještě znamenalo\,&nbsp\;že je míček mimo kurt.Poradí\,&nbsp\;jak se zbavit zlozvyků a nespavosti.&nbsp\;Jak &nbsp\;docílit&nbsp\;rozkošného poprsí a vyřešit vrásky. Žena je tak stará jako její pleť.Pánům vyzradí jak docíliti štěstí v&nbsp\;loži manželském a&nbsp\;slečnám\, jak&nbsp\;se vyhnout pokušení. Na to je 10 rad nevěstě pro manželství.&nbsp\;Je odhodlaná pro blaho tohoto páru i zpívat.I po 100 letech zjistíme\, že se lidé nemění. Že ženy chtějí stále pozornost a muži&nbsp\;rozlet. Přesto nad vším vítězí láska a dobré vztahy. To&nbsp\;si &nbsp\;uvědomí&nbsp\;i marketingová ředitelka Diana a její bohémský manžel Hugo. Mají ještě šanci&nbsp\;svého &nbsp\;„štěstí“ dosáhnout?&nbsp\;Hrají (a zpívají)Iva Hüttnerová\, autorka knihy Za domácím štěstím\, malířka\, která&nbsp\;vystavuje na mnoha místech ČR\, každoročně se pořádají v&nbsp\;Praze její Vánoční výstavy\, vydává tradiční kalendář svých obrázků (v&nbsp\;říjnu budou již aktuální). Celá její tvorba se orientuje na nostalgické časy našich&nbsp\;babiček \, na&nbsp\;časy starých obchůdků a trhů i šantánů. A&nbsp\;je to především&nbsp\;herečka. Naposledy zazářila v&nbsp\;seriálu Ordinace v&nbsp\;růžové zahradě a seriálu Slunečná.Michaela Dolinová\, herečka - Divadlo Metro\, Broadway\,&nbsp\;Semafor..&nbsp\;a moderátorka\, seriály Ulice\, Ordinace v růžové zahradě atd.David&nbsp\;Suchařípa\,herec - Divadlo&nbsp\;Kalich\, televizní seriály\, Ordinace v růžové zahradě atd.​
LOCATION:Doubek
END:VEVENT
END:VCALENDAR