BEGIN:VCALENDAR
VERSION:2.0
CALSCALE:GREGORIAN
PRODID:-//MyApp//Calendar 1.0//EN
BEGIN:VEVENT
METHOD:PUBLISH
UID:41393@regionalniportaly.cz
DTSTAMP:20260421T131650Z
DTSTART;VALUE=DATE:20240615
DTEND;VALUE=DATE:20240616
SUMMARY:Tesaque Antabus minifest vol. 52
DESCRIPTION:TESAQUE ANTABUS MINIFEST&nbsp\;vznikl\, protože v okolí&nbsp\;zkrátka takový fesťáček nebyl. Tady uslyšíte jenom metalové kapely. A to jak ty známější\, tak ty teprve na výsluní vycházející. Tím\, že na festival dorazíte\,&nbsp\;podpoříte hudebníky z celé republiky a taky částečně nevidomého Olivera a jeho sportovní aktivity! Fesťák nabídne i něco navíc\, a to&nbsp\;vystoupení mladých nadějných hudebníků&nbsp\;&nbsp\;z okolních ZUŠ\, kteří si zahrají na stejném pódiu jako profesionální kapely.&nbsp\;UVIDÍTE\, CO JSTE JEŠTĚ NEVIDĚLI -&nbsp\;USLYŠÍTE\, CO JSTE JEŠTĚ NESLYŠELINa pódiu se ukáže během jednoho dvne hvězdná sestava kapel&nbsp\;MALIGNANT TUMOUR\, SHAARK\, NAHUM\, STEELFAITH\, VANAHEIM\, CRUEL BARBARIAN\, TORRAX\,&nbsp\;KREVEL a&nbsp\;ARVA
LOCATION:Chrášťany
END:VEVENT
END:VCALENDAR