BEGIN:VCALENDAR
VERSION:2.0
CALSCALE:GREGORIAN
PRODID:-//MyApp//Calendar 1.0//EN
BEGIN:VEVENT
METHOD:PUBLISH
UID:41491@regionalniportaly.cz
DTSTAMP:20260421T114640Z
DTSTART;VALUE=DATE:20240607
DTEND;VALUE=DATE:20240608
SUMMARY:Lukáš Pavlásek: Planeta slepic
DESCRIPTION:Lukáš Pavlásek se po roce vrací do Kina Jevany s dalším báječným 90 minutovým&nbsp\;one-man-show.&nbsp\;Planeta slepic je stand-up speciál\, ve kterém se koukneme\, jaké vyhlídky má naše slavná civilizace\, kde si každý myslí\, že má pravdu\, stále jen nakupuje nepotřebné věci a kde vedle sebe žijí tak rozdílné bytosti\, jako jsou ženy\, muži a psi. Dozvíme se\, co strašného se stane\, když si doma zapomenete mobilní telefon. Užijeme si svých pět minut slávy v&nbsp\;televizní soutěži\, naučíme se chovat v&nbsp\;nákupním centru\, zavoláme si na&nbsp\;horkou linku a zjistíme\, proč přírodu každou sobotu čeká nápor idiotů z&nbsp\;města. A na závěr dojdeme k&nbsp\;tomu\, že na téhle planetě nakonec přežijí jen slepice. Přijďte se zasmát tomu\, co znáte ze života. Přijďte se podívat na Planetu slepic.Lukáš Pavlásek je jeden z&nbsp\;nejpopulárnějších českých komiků a jeho druhý celovečerní standupový pořad nabízí opět skvělou a originální zábavu.
LOCATION:Jevany
END:VEVENT
END:VCALENDAR