BEGIN:VCALENDAR
VERSION:2.0
CALSCALE:GREGORIAN
PRODID:-//MyApp//Calendar 1.0//EN
BEGIN:VEVENT
METHOD:PUBLISH
UID:41563@regionalniportaly.cz
DTSTAMP:20260423T095651Z
DTSTART;VALUE=DATE:20240414
DTEND;VALUE=DATE:20240415
SUMMARY:Lissa lumina | VÍT ŠIMÁNEK | Žít fotografií
DESCRIPTION:Cyklus večerů umění fotografie Lissa Lumina otevírá Vít Šimánek\, fotoreportér ČTK a čerstvý držitel Grantu Prahy\, druhé hlavní ceny v prestižní soutěži Czech Press Photo.\n \nKonání: podkroví staré radnice\, 19:00\nVstupné: předprodej 200 Kč\, na místě 250 Kč
LOCATION:Lysá nad Labem
END:VEVENT
END:VCALENDAR