BEGIN:VCALENDAR
VERSION:2.0
CALSCALE:GREGORIAN
PRODID:-//MyApp//Calendar 1.0//EN
BEGIN:VEVENT
METHOD:PUBLISH
UID:41573@regionalniportaly.cz
DTSTAMP:20260421T131715Z
DTSTART;VALUE=DATE:20240428
DTEND;VALUE=DATE:20240429
SUMMARY:Lissa lumina | JAN JIRKOVSKÝ | Kronikář doby
DESCRIPTION:Letošní vítěz kategorie Umění a kultura prestižní soutěže Czech Press Photo překvapil porotce i profesionální fotografy. Skupinu Alkehol na vítězné fotografii z charitativního koncertu pro Centrum sociálních služeb Tloskov zachytil se stejnou dávkou emocí\, s jakou zvěčňuje i klienty tohoto centra při jejich každodenních činnostech.\n \nVstupenky: předprodej 200 Kč\, studenti a důchodci 100 Kč
LOCATION:Lysá nad Labem
END:VEVENT
END:VCALENDAR