BEGIN:VCALENDAR
VERSION:2.0
CALSCALE:GREGORIAN
PRODID:-//MyApp//Calendar 1.0//EN
BEGIN:VEVENT
METHOD:PUBLISH
UID:41726@regionalniportaly.cz
DTSTAMP:20260422T054253Z
DTSTART;VALUE=DATE:20241126
DTEND;VALUE=DATE:20241127
SUMMARY:Janek Ledecký - Vánoční koncert
DESCRIPTION:Vánoční&nbsp\;písničky z alba Sliby se maj plnit o Vánocích se staly symbolem&nbsp\;vánoční&nbsp\;atmosféry. Letos po sedmadvacáté se Janek Ledecký s kapelou vydá na turné\, v jehož rámci přehraje veškeré skladby z této zásadní desky i své největší hity. K sváteční atmosféře přispěje i M. Nostitz Quartet a těšit se můžete i na nový design scény.
LOCATION:Čelákovice
END:VEVENT
END:VCALENDAR