BEGIN:VCALENDAR
VERSION:2.0
CALSCALE:GREGORIAN
PRODID:-//MyApp//Calendar 1.0//EN
BEGIN:VEVENT
METHOD:PUBLISH
UID:41792@regionalniportaly.cz
DTSTAMP:20260421T115245Z
DTSTART;VALUE=DATE:20240515
DTEND;VALUE=DATE:20240516
SUMMARY:Škola hrou s Bedřichem Smetanou
DESCRIPTION:Základní umělecká škola Čelákovice p. o.&nbsp\;uvádí&nbsp\;představení žáků a absolventů tanečního oboru ZUŠ.Námět:&nbsp\;Alena SmržováChoreografie:&nbsp\;Pavla Nováková\, Alena Smržová\, žáci a žákyně TOTančí:&nbsp\;žákyně a žáci přípravky\, I. a II. stupně tanečního oboru ZUŠ ČelákoviceVstupné 180 Kč.
LOCATION:Čelákovice
END:VEVENT
END:VCALENDAR