BEGIN:VCALENDAR
VERSION:2.0
CALSCALE:GREGORIAN
PRODID:-//MyApp//Calendar 1.0//EN
BEGIN:VEVENT
METHOD:PUBLISH
UID:41915@regionalniportaly.cz
DTSTAMP:20260423T113034Z
DTSTART;VALUE=DATE:20241008
DTEND;VALUE=DATE:20241009
SUMMARY:Vojta Nedvěd & Tie Break
DESCRIPTION:Vojta Nedvěd je skromným\, upřímným a bezesporu důstojným nositelem věčně zářící pochodně rodu Nedvědů. V současné době navazuje na dlouholetou spolupráci s otcem i strýcem\, ač jeho cesta již jde vlastním směrem\, který míří přímo k duším a srdcím posluchačů a milovníků nezapomenutelných "nedvědovek". Na jevišti dává svou důvěru skupině TieBreak - osobnostem z různých končin hudby.&nbsp\;Pořad je složen z nezapomenutelných „Nedvědovek“\, z tvorby Františka a Honzy Nedvěda\, ale i od Vojty Nedvěda
LOCATION:Čelákovice
END:VEVENT
END:VCALENDAR