BEGIN:VCALENDAR
VERSION:2.0
CALSCALE:GREGORIAN
PRODID:-//MyApp//Calendar 1.0//EN
BEGIN:VEVENT
METHOD:PUBLISH
UID:42258@regionalniportaly.cz
DTSTAMP:20260421T115735Z
DTSTART;VALUE=DATE:20240503
DTEND;VALUE=DATE:20240504
SUMMARY:Vypsaná fixa
DESCRIPTION:
LOCATION:Benátky nad Jizerou
END:VEVENT
END:VCALENDAR